BEGIN:VCALENDAR
VERSION:2.0
PRODID:-//East Metro Community Music Association - ECPv6.15.20//NONSGML v1.0//EN
CALSCALE:GREGORIAN
METHOD:PUBLISH
X-WR-CALNAME:East Metro Community Music Association
X-ORIGINAL-URL:https://eastmetrocommunitymusic.org
X-WR-CALDESC:Events for East Metro Community Music Association
REFRESH-INTERVAL;VALUE=DURATION:PT1H
X-Robots-Tag:noindex
X-PUBLISHED-TTL:PT1H
BEGIN:VTIMEZONE
TZID:America/Los_Angeles
BEGIN:DAYLIGHT
TZOFFSETFROM:-0800
TZOFFSETTO:-0700
TZNAME:PDT
DTSTART:20240310T100000
END:DAYLIGHT
BEGIN:STANDARD
TZOFFSETFROM:-0700
TZOFFSETTO:-0800
TZNAME:PST
DTSTART:20241103T090000
END:STANDARD
BEGIN:DAYLIGHT
TZOFFSETFROM:-0800
TZOFFSETTO:-0700
TZNAME:PDT
DTSTART:20250309T100000
END:DAYLIGHT
BEGIN:STANDARD
TZOFFSETFROM:-0700
TZOFFSETTO:-0800
TZNAME:PST
DTSTART:20251102T090000
END:STANDARD
BEGIN:DAYLIGHT
TZOFFSETFROM:-0800
TZOFFSETTO:-0700
TZNAME:PDT
DTSTART:20260308T100000
END:DAYLIGHT
BEGIN:STANDARD
TZOFFSETFROM:-0700
TZOFFSETTO:-0800
TZNAME:PST
DTSTART:20261101T090000
END:STANDARD
BEGIN:DAYLIGHT
TZOFFSETFROM:-0800
TZOFFSETTO:-0700
TZNAME:PDT
DTSTART:20270314T100000
END:DAYLIGHT
BEGIN:STANDARD
TZOFFSETFROM:-0700
TZOFFSETTO:-0800
TZNAME:PST
DTSTART:20271107T090000
END:STANDARD
END:VTIMEZONE
BEGIN:VEVENT
DTSTART;TZID=America/Los_Angeles:20260505T190000
DTEND;TZID=America/Los_Angeles:20260505T210000
DTSTAMP:20260422T150419
CREATED:20260217T034021Z
LAST-MODIFIED:20260217T034021Z
UID:1639-1778007600-1778014800@eastmetrocommunitymusic.org
SUMMARY:Concert Band Rehearsal
DESCRIPTION:EMCMA Spring 2026 Concert Band Rehearsal at CHS.
URL:https://eastmetrocommunitymusic.org/event/concert-band-rehearsal_5-5-26/
LOCATION:Centennial High School\, 3505 SE 182nd\, Gresham\, OR\, 97030\, United States
CATEGORIES:Concert,Rehearsal
END:VEVENT
BEGIN:VEVENT
DTSTART;TZID=America/Los_Angeles:20260428T190000
DTEND;TZID=America/Los_Angeles:20260428T210000
DTSTAMP:20260422T150419
CREATED:20260217T033826Z
LAST-MODIFIED:20260217T033847Z
UID:1637-1777402800-1777410000@eastmetrocommunitymusic.org
SUMMARY:Concert Band Rehearsal
DESCRIPTION:EMCMA Spring 2026 Concert Band Rehearsal at CHS.
URL:https://eastmetrocommunitymusic.org/event/concert-band-rehearsal_4-28-26/
LOCATION:Centennial High School\, 3505 SE 182nd\, Gresham\, OR\, 97030\, United States
CATEGORIES:Concert,Rehearsal
END:VEVENT
BEGIN:VEVENT
DTSTART;TZID=America/Los_Angeles:20260421T190000
DTEND;TZID=America/Los_Angeles:20260421T210000
DTSTAMP:20260422T150419
CREATED:20260217T033734Z
LAST-MODIFIED:20260217T033734Z
UID:1635-1776798000-1776805200@eastmetrocommunitymusic.org
SUMMARY:Concert Band Rehearsal
DESCRIPTION:EMCMA Spring 2026 Concert Band Rehearsal at CHS.
URL:https://eastmetrocommunitymusic.org/event/concert-band-rehearsal_4-21-26/
LOCATION:Centennial High School\, 3505 SE 182nd\, Gresham\, OR\, 97030\, United States
CATEGORIES:Concert,Rehearsal
END:VEVENT
BEGIN:VEVENT
DTSTART;TZID=America/Los_Angeles:20260414T190000
DTEND;TZID=America/Los_Angeles:20260414T210000
DTSTAMP:20260422T150419
CREATED:20260217T033620Z
LAST-MODIFIED:20260217T033637Z
UID:1633-1776193200-1776200400@eastmetrocommunitymusic.org
SUMMARY:Concert Band Rehearsal
DESCRIPTION:EMCMA Spring 2026 Concert Band Rehearsal at CHS.
URL:https://eastmetrocommunitymusic.org/event/concert-band-rehearsal_4-14-26/
LOCATION:Centennial High School\, 3505 SE 182nd\, Gresham\, OR\, 97030\, United States
CATEGORIES:Concert,Rehearsal
END:VEVENT
BEGIN:VEVENT
DTSTART;TZID=America/Los_Angeles:20260407T190000
DTEND;TZID=America/Los_Angeles:20260407T210000
DTSTAMP:20260422T150419
CREATED:20260217T033340Z
LAST-MODIFIED:20260217T033340Z
UID:1631-1775588400-1775595600@eastmetrocommunitymusic.org
SUMMARY:Concert Band Rehearsal
DESCRIPTION:EMCMA Spring 2026 Concert Band Rehearsal at CHS.
URL:https://eastmetrocommunitymusic.org/event/concert-band-rehearsal_4-7-26/
LOCATION:Centennial High School\, 3505 SE 182nd\, Gresham\, OR\, 97030\, United States
CATEGORIES:Concert,Rehearsal
END:VEVENT
BEGIN:VEVENT
DTSTART;TZID=America/Los_Angeles:20260331T190000
DTEND;TZID=America/Los_Angeles:20260331T200000
DTSTAMP:20260422T150419
CREATED:20260217T033227Z
LAST-MODIFIED:20260217T033227Z
UID:1629-1774983600-1774987200@eastmetrocommunitymusic.org
SUMMARY:Concert Band Rehearsal
DESCRIPTION:EMCMA Spring 2026 Concert Band Rehearsal at CHS.
URL:https://eastmetrocommunitymusic.org/event/concert-band-rehearsal_3-31-26/
LOCATION:Centennial High School\, 3505 SE 182nd\, Gresham\, OR\, 97030\, United States
CATEGORIES:Concert,Rehearsal
END:VEVENT
BEGIN:VEVENT
DTSTART;TZID=America/Los_Angeles:20260324T190000
DTEND;TZID=America/Los_Angeles:20260324T210000
DTSTAMP:20260422T150419
CREATED:20260217T032909Z
LAST-MODIFIED:20260217T033058Z
UID:1626-1774378800-1774386000@eastmetrocommunitymusic.org
SUMMARY:Concert Band Rehearsal
DESCRIPTION:EMCMA Spring 2026 Concert Band Rehearsal at CHS.
URL:https://eastmetrocommunitymusic.org/event/concert-band-rehearsal_3-24-26/
LOCATION:Centennial High School\, 3505 SE 182nd\, Gresham\, OR\, 97030\, United States
CATEGORIES:Concert,Rehearsal
END:VEVENT
BEGIN:VEVENT
DTSTART;TZID=America/Los_Angeles:20260318T190000
DTEND;TZID=America/Los_Angeles:20260318T210000
DTSTAMP:20260422T150419
CREATED:20260217T032653Z
LAST-MODIFIED:20260302T162843Z
UID:1624-1773860400-1773867600@eastmetrocommunitymusic.org
SUMMARY:Concert Band Rehearsal
DESCRIPTION:EMCMA Spring 2026 Concert Band Rehearsal at Centennial Middle School.
URL:https://eastmetrocommunitymusic.org/event/concert-band-rehearsal_3-18-26/
LOCATION:Centennial Middle School band room\, 17650 SE Brooklyn St\, Portland\, OR\, 97236\, United States
CATEGORIES:Concert,Rehearsal
END:VEVENT
BEGIN:VEVENT
DTSTART;TZID=America/Los_Angeles:20260312T190000
DTEND;TZID=America/Los_Angeles:20260312T210000
DTSTAMP:20260422T150419
CREATED:20260217T034637Z
LAST-MODIFIED:20260217T034716Z
UID:1645-1773342000-1773349200@eastmetrocommunitymusic.org
SUMMARY:Jazz Band
DESCRIPTION:EMCMA Big Band (Jazz) Rehearsal at CHS – 6:00-8:00PM in the CHS band room!
URL:https://eastmetrocommunitymusic.org/event/jazz-band_3-12-26/
LOCATION:Centennial High School\, 3505 SE 182nd\, Gresham\, OR\, 97030\, United States
CATEGORIES:Jazz,Rehearsal
END:VEVENT
BEGIN:VEVENT
DTSTART;TZID=America/Los_Angeles:20260311T190000
DTEND;TZID=America/Los_Angeles:20260311T210000
DTSTAMP:20260422T150419
CREATED:20260217T032458Z
LAST-MODIFIED:20260302T162829Z
UID:1622-1773255600-1773262800@eastmetrocommunitymusic.org
SUMMARY:Concert Band Rehearsal
DESCRIPTION:EMCMA Spring 2026 Concert Band Rehearsal at Centennial Middle School. \n \n 
URL:https://eastmetrocommunitymusic.org/event/concert-band-rehearsal_3-11-26/
LOCATION:Centennial Middle School band room\, 17650 SE Brooklyn St\, Portland\, OR\, 97236\, United States
CATEGORIES:Concert,Rehearsal
END:VEVENT
BEGIN:VEVENT
DTSTART;TZID=America/Los_Angeles:20260303T190000
DTEND;TZID=America/Los_Angeles:20260303T210000
DTSTAMP:20260422T150419
CREATED:20260217T034502Z
LAST-MODIFIED:20260217T034502Z
UID:1643-1772564400-1772571600@eastmetrocommunitymusic.org
SUMMARY:Jazz Band
DESCRIPTION:EMCMA Big Band (Jazz) Rehearsal at CHS – 6:00-8:00PM in the CHS band room!
URL:https://eastmetrocommunitymusic.org/event/jazz-band_3-5-26/
LOCATION:Centennial High School\, 3505 SE 182nd\, Gresham\, OR\, 97030\, United States
CATEGORIES:Jazz,Rehearsal
END:VEVENT
BEGIN:VEVENT
DTSTART;TZID=America/Los_Angeles:20260303T190000
DTEND;TZID=America/Los_Angeles:20260303T210000
DTSTAMP:20260422T150419
CREATED:20260217T032342Z
LAST-MODIFIED:20260217T032342Z
UID:1620-1772564400-1772571600@eastmetrocommunitymusic.org
SUMMARY:Concert Band Rehearsal
DESCRIPTION:EMCMA Spring 2026 Concert Band Rehearsal at CHS.
URL:https://eastmetrocommunitymusic.org/event/concert-band-rehearsal_3-3-26/
LOCATION:Centennial High School\, 3505 SE 182nd\, Gresham\, OR\, 97030\, United States
CATEGORIES:Concert,Rehearsal
END:VEVENT
BEGIN:VEVENT
DTSTART;TZID=America/Los_Angeles:20260226T180000
DTEND;TZID=America/Los_Angeles:20260226T200000
DTSTAMP:20260422T150419
CREATED:20260126T233531Z
LAST-MODIFIED:20260126T233531Z
UID:1613-1772128800-1772136000@eastmetrocommunitymusic.org
SUMMARY:Jazz Band
DESCRIPTION:EMCMA Big Band (Jazz) Rehearsal at CHS – 6:00-8:00PM in the CHS band room!
URL:https://eastmetrocommunitymusic.org/event/jazz-band_2-26-26/
LOCATION:Centennial High School\, 3505 SE 182nd\, Gresham\, OR\, 97030\, United States
CATEGORIES:Jazz,Rehearsal
END:VEVENT
BEGIN:VEVENT
DTSTART;TZID=America/Los_Angeles:20260224T190000
DTEND;TZID=America/Los_Angeles:20260224T210000
DTSTAMP:20260422T150419
CREATED:20260113T173345Z
LAST-MODIFIED:20260113T173345Z
UID:1441-1771959600-1771966800@eastmetrocommunitymusic.org
SUMMARY:Concert Band Rehearsal
DESCRIPTION:EMCMA Spring 2026 Concert Band Rehearsal at CHS.
URL:https://eastmetrocommunitymusic.org/event/concert-band-rehearsal_2-24-26/
LOCATION:Centennial High School\, 3505 SE 182nd\, Gresham\, OR\, 97030\, United States
CATEGORIES:Concert,Rehearsal
END:VEVENT
BEGIN:VEVENT
DTSTART;TZID=America/Los_Angeles:20260219T180000
DTEND;TZID=America/Los_Angeles:20260219T200000
DTSTAMP:20260422T150419
CREATED:20260126T233425Z
LAST-MODIFIED:20260126T233425Z
UID:1610-1771524000-1771531200@eastmetrocommunitymusic.org
SUMMARY:Jazz Band
DESCRIPTION:EMCMA Big Band (Jazz) Rehearsal at CHS – 6:00-8:00PM in the CHS band room!
URL:https://eastmetrocommunitymusic.org/event/jazz-band_2-19-26/
LOCATION:Centennial High School\, 3505 SE 182nd\, Gresham\, OR\, 97030\, United States
CATEGORIES:Jazz,Rehearsal
END:VEVENT
BEGIN:VEVENT
DTSTART;TZID=America/Los_Angeles:20260217T190000
DTEND;TZID=America/Los_Angeles:20260217T210000
DTSTAMP:20260422T150419
CREATED:20260113T173056Z
LAST-MODIFIED:20260126T233311Z
UID:1439-1771354800-1771362000@eastmetrocommunitymusic.org
SUMMARY:Concert Band Rehearsal
DESCRIPTION:EMCMA Spring 2026 Concert Band Rehearsal at Centennial Middle School.
URL:https://eastmetrocommunitymusic.org/event/concert-band-rehearsal_2-17-26/
LOCATION:Centennial Middle School band room\, 17650 SE Brooklyn St\, Portland\, OR\, 97236\, United States
CATEGORIES:Concert,Rehearsal
END:VEVENT
BEGIN:VEVENT
DTSTART;TZID=America/Los_Angeles:20260212T180000
DTEND;TZID=America/Los_Angeles:20260212T200000
DTSTAMP:20260422T150419
CREATED:20260126T233247Z
LAST-MODIFIED:20260126T233247Z
UID:1608-1770919200-1770926400@eastmetrocommunitymusic.org
SUMMARY:Jazz Band
DESCRIPTION:EMCMA Big Band (Jazz) Rehearsal at CHS – 6:00-8:00PM in the CHS band room!
URL:https://eastmetrocommunitymusic.org/event/jazz-band_2-12-26/
LOCATION:Centennial High School\, 3505 SE 182nd\, Gresham\, OR\, 97030\, United States
CATEGORIES:Jazz,Rehearsal
END:VEVENT
BEGIN:VEVENT
DTSTART;TZID=America/Los_Angeles:20260210T190000
DTEND;TZID=America/Los_Angeles:20260210T210000
DTSTAMP:20260422T150419
CREATED:20260113T172740Z
LAST-MODIFIED:20260113T172808Z
UID:1437-1770750000-1770757200@eastmetrocommunitymusic.org
SUMMARY:Concert Band Rehearsal
DESCRIPTION:EMCMA Spring 2026 Concert Band Rehearsal at CHS.
URL:https://eastmetrocommunitymusic.org/event/concert-band-rehearsal_2-10-26/
LOCATION:Centennial High School\, 3505 SE 182nd\, Gresham\, OR\, 97030\, United States
CATEGORIES:Concert,Rehearsal
END:VEVENT
BEGIN:VEVENT
DTSTART;TZID=America/Los_Angeles:20260203T190000
DTEND;TZID=America/Los_Angeles:20260203T210000
DTSTAMP:20260422T150419
CREATED:20260113T172523Z
LAST-MODIFIED:20260113T172607Z
UID:1435-1770145200-1770152400@eastmetrocommunitymusic.org
SUMMARY:Concert Band Rehearsal
DESCRIPTION:EMCMA Spring 2026 Concert Band Rehearsal at CHS.
URL:https://eastmetrocommunitymusic.org/event/concert-band-rehearsal_2-3-26/
LOCATION:Centennial High School\, 3505 SE 182nd\, Gresham\, OR\, 97030\, United States
CATEGORIES:Concert,Rehearsal
END:VEVENT
BEGIN:VEVENT
DTSTART;TZID=America/Los_Angeles:20260128T173000
DTEND;TZID=America/Los_Angeles:20260128T190000
DTSTAMP:20260422T150419
CREATED:20260126T232718Z
LAST-MODIFIED:20260126T232718Z
UID:1603-1769621400-1769626800@eastmetrocommunitymusic.org
SUMMARY:Jazz Band
DESCRIPTION:EMCMA Jazz Band Rehearsal at CHS – 5:30-7:00 in the CHS band room!
URL:https://eastmetrocommunitymusic.org/event/jazz-band_1-28-26/
LOCATION:Centennial High School\, 3505 SE 182nd\, Gresham\, OR\, 97030\, United States
CATEGORIES:Jazz,Rehearsal
END:VEVENT
BEGIN:VEVENT
DTSTART;TZID=America/Los_Angeles:20260127T190000
DTEND;TZID=America/Los_Angeles:20260127T210000
DTSTAMP:20260422T150419
CREATED:20260113T164900Z
LAST-MODIFIED:20260113T164900Z
UID:1433-1769540400-1769547600@eastmetrocommunitymusic.org
SUMMARY:Concert Band Rehearsal
DESCRIPTION:EMCMA Spring 2026 Concert Band Rehearsal at CHS.
URL:https://eastmetrocommunitymusic.org/event/concert-band-rehearsal_1-27-26/
LOCATION:Centennial High School\, 3505 SE 182nd\, Gresham\, OR\, 97030\, United States
CATEGORIES:Concert,Rehearsal
END:VEVENT
BEGIN:VEVENT
DTSTART;TZID=America/Los_Angeles:20260120T190000
DTEND;TZID=America/Los_Angeles:20260120T210000
DTSTAMP:20260422T150419
CREATED:20251221T225022Z
LAST-MODIFIED:20251221T225022Z
UID:1272-1768935600-1768942800@eastmetrocommunitymusic.org
SUMMARY:Concert Band Rehearsal
DESCRIPTION:EMCMA Spring 2026 Concert Band Rehearsal at CHS.
URL:https://eastmetrocommunitymusic.org/event/concert-band-rehearsal_1-20-26/
LOCATION:Centennial High School\, 3505 SE 182nd\, Gresham\, OR\, 97030\, United States
CATEGORIES:Concert,Rehearsal
END:VEVENT
BEGIN:VEVENT
DTSTART;TZID=America/Los_Angeles:20260113T190000
DTEND;TZID=America/Los_Angeles:20260113T210000
DTSTAMP:20260422T150419
CREATED:20251221T224821Z
LAST-MODIFIED:20251221T224821Z
UID:1270-1768330800-1768338000@eastmetrocommunitymusic.org
SUMMARY:Concert Band Rehearsal
DESCRIPTION:EMCMA Spring 2026 Concert Band Rehearsal at CHS.
URL:https://eastmetrocommunitymusic.org/event/concert-band-rehearsal_1-13-26/
LOCATION:Centennial High School\, 3505 SE 182nd\, Gresham\, OR\, 97030\, United States
CATEGORIES:Concert,Rehearsal
END:VEVENT
BEGIN:VEVENT
DTSTART;TZID=America/Los_Angeles:20260104T180000
DTEND;TZID=America/Los_Angeles:20260104T203000
DTSTAMP:20260422T150419
CREATED:20251207T190857Z
LAST-MODIFIED:20251207T190857Z
UID:1261-1767549600-1767558600@eastmetrocommunitymusic.org
SUMMARY:12th Night Reverie
DESCRIPTION:12th Night Reverie at St. Aidan’s Episcopal Church\, 7:00 pm \n\nSt. Aidan’s Church Service 10 AM\n3:00-5:30 Portland Alumni Party\n6:00 Run through large-group pieces/sound check\n7:00 PM Concert
URL:https://eastmetrocommunitymusic.org/event/12th-night-reverie_2026/
LOCATION:St. Aidan’s Episcopal Church\, 17405 NE Glisan St\, Portland\, OR\, 97230\, United States
CATEGORIES:Concert,Performance
ATTACH;FMTTYPE=image/png:https://eastmetrocommunitymusic.org/wp-content/uploads/2024/10/Unknown.png
ORGANIZER;CN="St Aidan's Episcopal Church":MAILTO:churchoffice@saint-aidans.org
END:VEVENT
BEGIN:VEVENT
DTSTART;TZID=America/Los_Angeles:20251230T190000
DTEND;TZID=America/Los_Angeles:20251230T210000
DTSTAMP:20260422T150419
CREATED:20251221T223858Z
LAST-MODIFIED:20251221T223858Z
UID:1267-1767121200-1767128400@eastmetrocommunitymusic.org
SUMMARY:12th Night Ensemble Rehearsal
DESCRIPTION:12th Night Ensemble Rehearsal \n7:00-9:00 at the Gresham Historical Society \nRehearsal for large ensemble and space for small group practice.
URL:https://eastmetrocommunitymusic.org/event/12th-night-ensemble-rehearsal_12-30-25/
LOCATION:Gresham Historical Society\, 410 N Main Ave\, Gresham\, OR\, 97030\, United States
CATEGORIES:Concert,Rehearsal
END:VEVENT
BEGIN:VEVENT
DTSTART;TZID=America/Los_Angeles:20251223T190000
DTEND;TZID=America/Los_Angeles:20251223T210000
DTSTAMP:20260422T150419
CREATED:20251221T223633Z
LAST-MODIFIED:20251221T223843Z
UID:1264-1766516400-1766523600@eastmetrocommunitymusic.org
SUMMARY:12th Night Ensemble Rehearsal
DESCRIPTION:12th Night Ensemble Rehearsal \n7:00-9:00 at the Gresham Historical Society \nRehearsal for large ensemble and space for small group practice.
URL:https://eastmetrocommunitymusic.org/event/12th-night-ensemble-rehearsal_12-23-25/
LOCATION:Gresham Historical Society\, 410 N Main Ave\, Gresham\, OR\, 97030\, United States
CATEGORIES:Concert,Rehearsal
END:VEVENT
BEGIN:VEVENT
DTSTART;TZID=America/Los_Angeles:20251217T173000
DTEND;TZID=America/Los_Angeles:20251217T190000
DTSTAMP:20260422T150419
CREATED:20251207T190247Z
LAST-MODIFIED:20251207T190247Z
UID:1254-1765992600-1765998000@eastmetrocommunitymusic.org
SUMMARY:Jazz Band Rehearsal
DESCRIPTION:EMCMA Jazz Band Rehearsal at CHS. \n5:30-6:00 Jam Session\, 6:00-7:00 Jazz Repertoire. \nIn the CHS band room!
URL:https://eastmetrocommunitymusic.org/event/jazz-band-rehearsal_12-17-25/
LOCATION:Centennial High School\, 3505 SE 182nd\, Gresham\, OR\, 97030\, United States
CATEGORIES:Jazz,Rehearsal
END:VEVENT
BEGIN:VEVENT
DTSTART;TZID=America/Los_Angeles:20251216T190000
DTEND;TZID=America/Los_Angeles:20251216T210000
DTSTAMP:20260422T150419
CREATED:20251207T190550Z
LAST-MODIFIED:20251207T190550Z
UID:1258-1765911600-1765918800@eastmetrocommunitymusic.org
SUMMARY:12th Night Ensemble Rehearsal
DESCRIPTION:12th Night Ensemble Rehearsal \n7:00-9:00 in the CHS band room \nRehearsal for large ensemble and space for small group practice
URL:https://eastmetrocommunitymusic.org/event/12th-night-ensemble-rehearsal_12-16-25/
LOCATION:Centennial High School\, 3505 SE 182nd\, Gresham\, OR\, 97030\, United States
CATEGORIES:Jazz,Rehearsal
END:VEVENT
BEGIN:VEVENT
DTSTART;TZID=America/Los_Angeles:20251210T173000
DTEND;TZID=America/Los_Angeles:20251210T190000
DTSTAMP:20260422T150419
CREATED:20251207T190113Z
LAST-MODIFIED:20251207T190113Z
UID:1252-1765387800-1765393200@eastmetrocommunitymusic.org
SUMMARY:Jazz Band Rehearsal
DESCRIPTION:EMCMA Jazz Band Rehearsal at CHS. \n5:30-6:00 Jam Session\, 6:00-7:00 Jazz Repertoire. \nIn the CHS band room!
URL:https://eastmetrocommunitymusic.org/event/jazz-band-rehearsal_12-10-25/
LOCATION:Centennial High School\, 3505 SE 182nd\, Gresham\, OR\, 97030\, United States
CATEGORIES:Jazz,Rehearsal
END:VEVENT
BEGIN:VEVENT
DTSTART;TZID=America/Los_Angeles:20251209T190000
DTEND;TZID=America/Los_Angeles:20251209T210000
DTSTAMP:20260422T150419
CREATED:20251207T190432Z
LAST-MODIFIED:20251207T190600Z
UID:1256-1765306800-1765314000@eastmetrocommunitymusic.org
SUMMARY:12th Night Ensemble Rehearsal
DESCRIPTION:12th Night Ensemble Rehearsal \n7:00-9:00 in the CHS band room \nRehearsal for large ensemble and space for small group practice
URL:https://eastmetrocommunitymusic.org/event/12th-night-ensemble-rehearsal_12-9-25/
LOCATION:Centennial High School\, 3505 SE 182nd\, Gresham\, OR\, 97030\, United States
CATEGORIES:Jazz,Rehearsal
END:VEVENT
END:VCALENDAR