BEGIN:VCALENDAR
VERSION:2.0
PRODID:-//East Metro Community Music Association - ECPv6.15.20//NONSGML v1.0//EN
CALSCALE:GREGORIAN
METHOD:PUBLISH
X-WR-CALNAME:East Metro Community Music Association
X-ORIGINAL-URL:https://eastmetrocommunitymusic.org
X-WR-CALDESC:Events for East Metro Community Music Association
REFRESH-INTERVAL;VALUE=DURATION:PT1H
X-Robots-Tag:noindex
X-PUBLISHED-TTL:PT1H
BEGIN:VTIMEZONE
TZID:America/Los_Angeles
BEGIN:DAYLIGHT
TZOFFSETFROM:-0800
TZOFFSETTO:-0700
TZNAME:PDT
DTSTART:20240310T100000
END:DAYLIGHT
BEGIN:STANDARD
TZOFFSETFROM:-0700
TZOFFSETTO:-0800
TZNAME:PST
DTSTART:20241103T090000
END:STANDARD
BEGIN:DAYLIGHT
TZOFFSETFROM:-0800
TZOFFSETTO:-0700
TZNAME:PDT
DTSTART:20250309T100000
END:DAYLIGHT
BEGIN:STANDARD
TZOFFSETFROM:-0700
TZOFFSETTO:-0800
TZNAME:PST
DTSTART:20251102T090000
END:STANDARD
BEGIN:DAYLIGHT
TZOFFSETFROM:-0800
TZOFFSETTO:-0700
TZNAME:PDT
DTSTART:20260308T100000
END:DAYLIGHT
BEGIN:STANDARD
TZOFFSETFROM:-0700
TZOFFSETTO:-0800
TZNAME:PST
DTSTART:20261101T090000
END:STANDARD
END:VTIMEZONE
BEGIN:VEVENT
DTSTART;TZID=America/Los_Angeles:20250902T190000
DTEND;TZID=America/Los_Angeles:20250902T210000
DTSTAMP:20260422T233143
CREATED:20250812T033929Z
LAST-MODIFIED:20250812T033945Z
UID:805-1756839600-1756846800@eastmetrocommunitymusic.org
SUMMARY:Marching Band Rehearsal
DESCRIPTION:EMCMA Marching Band Rehearsal at CHS.
URL:https://eastmetrocommunitymusic.org/event/marching-band-rehearsal_9-2-25/
LOCATION:Centennial High School\, 3505 SE 182nd\, Gresham\, OR\, 97030\, United States
CATEGORIES:Marching,Rehearsal
END:VEVENT
BEGIN:VEVENT
DTSTART;TZID=America/Los_Angeles:20250823T090000
DTEND;TZID=America/Los_Angeles:20250823T160000
DTSTAMP:20260422T233143
CREATED:20250412T164411Z
LAST-MODIFIED:20250523T171858Z
UID:651-1755939600-1755964800@eastmetrocommunitymusic.org
SUMMARY:Celtic Festival at St. Aidan’s Epsicopal Church
DESCRIPTION:Come enjoy the EMCMA and other performers during the Celtic Festival at St. Aidan’s Epsicopal Church. The Festival and Basket Raffle will he held between 9:00 a.m. – 4:00 p.m.
URL:https://eastmetrocommunitymusic.org/event/celtic-festival_2025/
LOCATION:St. Aidan’s Episcopal Church\, 17405 NE Glisan St\, Portland\, OR\, 97230\, United States
CATEGORIES:Concert,Performance
ATTACH;FMTTYPE=image/png:https://eastmetrocommunitymusic.org/wp-content/uploads/2024/10/Unknown.png
ORGANIZER;CN="St Aidan's Episcopal Church":MAILTO:churchoffice@saint-aidans.org
END:VEVENT
BEGIN:VEVENT
DTSTART;TZID=America/Los_Angeles:20250820T190000
DTEND;TZID=America/Los_Angeles:20250820T210000
DTSTAMP:20260422T233143
CREATED:20250523T171739Z
LAST-MODIFIED:20250709T001159Z
UID:693-1755716400-1755723600@eastmetrocommunitymusic.org
SUMMARY:Concert Band Rehearsal
DESCRIPTION:EMCMA Concert Band Rehearsal at CHS.
URL:https://eastmetrocommunitymusic.org/event/concert-band-rehearsal_8-20-25/
LOCATION:Centennial High School\, 3505 SE 182nd\, Gresham\, OR\, 97030\, United States
CATEGORIES:Concert,Rehearsal
END:VEVENT
BEGIN:VEVENT
DTSTART;TZID=America/Los_Angeles:20250816T130000
DTEND;TZID=America/Los_Angeles:20250816T140000
DTSTAMP:20260422T233143
CREATED:20250812T042555Z
LAST-MODIFIED:20250812T042555Z
UID:820-1755349200-1755352800@eastmetrocommunitymusic.org
SUMMARY:Music Theory Book Club Discussion
DESCRIPTION:Join EMCMA members for a music theory book club discussion with Michael!
URL:https://eastmetrocommunitymusic.org/event/music-theory-book-club-discussion_8-16-25/
LOCATION:Legacy Coffee\, 112 North Main Avenue\, Gresham\, OR\, 97030\, United States
CATEGORIES:Community
ATTACH;FMTTYPE=image/png:https://eastmetrocommunitymusic.org/wp-content/uploads/2025/01/LEGC-0005-Sign-V2copy.png
END:VEVENT
BEGIN:VEVENT
DTSTART;TZID=America/Los_Angeles:20250812T190000
DTEND;TZID=America/Los_Angeles:20250812T210000
DTSTAMP:20260422T233143
CREATED:20250523T171538Z
LAST-MODIFIED:20250709T001114Z
UID:691-1755025200-1755032400@eastmetrocommunitymusic.org
SUMMARY:Concert Band Rehearsal
DESCRIPTION:EMCMA Concert Band Rehearsal at CHS.
URL:https://eastmetrocommunitymusic.org/event/concert-band-rehearsal_8-12-25/
LOCATION:Centennial High School\, 3505 SE 182nd\, Gresham\, OR\, 97030\, United States
CATEGORIES:Concert,Rehearsal
END:VEVENT
BEGIN:VEVENT
DTSTART;TZID=America/Los_Angeles:20250806T190000
DTEND;TZID=America/Los_Angeles:20250806T210000
DTSTAMP:20260422T233143
CREATED:20250523T171409Z
LAST-MODIFIED:20250709T001029Z
UID:689-1754506800-1754514000@eastmetrocommunitymusic.org
SUMMARY:Concert Band Rehearsal
DESCRIPTION:EMCMA Concert Band Rehearsal at CHS.
URL:https://eastmetrocommunitymusic.org/event/concert-band-rehearsal_8-6-25/
LOCATION:Centennial High School\, 3505 SE 182nd\, Gresham\, OR\, 97030\, United States
CATEGORIES:Concert,Rehearsal
END:VEVENT
BEGIN:VEVENT
DTSTART;TZID=America/Los_Angeles:20250729T190000
DTEND;TZID=America/Los_Angeles:20250729T210000
DTSTAMP:20260422T233143
CREATED:20250516T211843Z
LAST-MODIFIED:20250709T000953Z
UID:665-1753815600-1753822800@eastmetrocommunitymusic.org
SUMMARY:Concert Band Rehearsal
DESCRIPTION:EMCMA Concert Band Rehearsal at CHS.
URL:https://eastmetrocommunitymusic.org/event/concert-band-rehearsal_7-29-25/
LOCATION:Centennial High School\, 3505 SE 182nd\, Gresham\, OR\, 97030\, United States
CATEGORIES:Concert,Rehearsal
END:VEVENT
BEGIN:VEVENT
DTSTART;TZID=America/Los_Angeles:20250723T190000
DTEND;TZID=America/Los_Angeles:20250723T210000
DTSTAMP:20260422T233143
CREATED:20250412T163958Z
LAST-MODIFIED:20250709T000913Z
UID:649-1753297200-1753304400@eastmetrocommunitymusic.org
SUMMARY:Concert Band Rehearsal
DESCRIPTION:EMCMA Concert Band Rehearsal at CHS.
URL:https://eastmetrocommunitymusic.org/event/concert-band-rehearsal_7-23-25/
LOCATION:Centennial High School\, 3505 SE 182nd\, Gresham\, OR\, 97030\, United States
CATEGORIES:Concert,Rehearsal
END:VEVENT
BEGIN:VEVENT
DTSTART;TZID=America/Los_Angeles:20250715T190000
DTEND;TZID=America/Los_Angeles:20250715T210000
DTSTAMP:20260422T233143
CREATED:20250516T212606Z
LAST-MODIFIED:20250709T000829Z
UID:676-1752606000-1752613200@eastmetrocommunitymusic.org
SUMMARY:Concert Band Rehearsal
DESCRIPTION:EMCMA Concert Band Rehearsal at CHS.
URL:https://eastmetrocommunitymusic.org/event/concert-band-rehearsal_7-15-25/
LOCATION:Centennial High School\, 3505 SE 182nd\, Gresham\, OR\, 97030\, United States
CATEGORIES:Concert,Rehearsal
END:VEVENT
BEGIN:VEVENT
DTSTART;TZID=America/Los_Angeles:20250709T190000
DTEND;TZID=America/Los_Angeles:20250709T210000
DTSTAMP:20260422T233143
CREATED:20250516T212436Z
LAST-MODIFIED:20250709T000717Z
UID:674-1752087600-1752094800@eastmetrocommunitymusic.org
SUMMARY:Concert Band Rehearsal
DESCRIPTION:EMCMA Concert Band Rehearsal at CHS.
URL:https://eastmetrocommunitymusic.org/event/concert-band-rehearsal_7-9-25/
LOCATION:Centennial High School\, 3505 SE 182nd\, Gresham\, OR\, 97030\, United States
CATEGORIES:Concert,Rehearsal
END:VEVENT
BEGIN:VEVENT
DTSTART;TZID=America/Los_Angeles:20250701T190000
DTEND;TZID=America/Los_Angeles:20250701T210000
DTSTAMP:20260422T233143
CREATED:20250516T212239Z
LAST-MODIFIED:20250516T212258Z
UID:672-1751396400-1751403600@eastmetrocommunitymusic.org
SUMMARY:Concert Band Rehearsal
DESCRIPTION:EMCMA Concert Band Rehearsal at CMS. \n Note: school is not in session during the summer – subject to venue change.
URL:https://eastmetrocommunitymusic.org/event/concert-band-rehearsal_7-1-25/
LOCATION:Centennial Middle School band room\, 17650 SE Brooklyn St\, Portland\, OR\, 97236\, United States
CATEGORIES:Concert,Rehearsal
END:VEVENT
BEGIN:VEVENT
DTSTART;TZID=America/Los_Angeles:20250612T160000
DTEND;TZID=America/Los_Angeles:20250612T170000
DTSTAMP:20260422T233143
CREATED:20250521T175136Z
LAST-MODIFIED:20250521T175339Z
UID:681-1749744000-1749747600@eastmetrocommunitymusic.org
SUMMARY:Parklane Park Grand Opening
DESCRIPTION:Parklane Park is having their grand opening on June 12th. We have been given a 15-minute slot to play a pep band set in the newly-built outdoor pavilion from 4:45 PM-5:00 PM. We will have a booth as well. \nRegister for the Parkland Park Opening Sign Up via Google Forms.
URL:https://eastmetrocommunitymusic.org/event/parklane-park-grand-opening/
LOCATION:Parklane Elementary\, 15811 SE Main St\, Portland\, OR\, 97233\, United States
CATEGORIES:Community,Concert,Performance
ATTACH;FMTTYPE=image/png:https://eastmetrocommunitymusic.org/wp-content/uploads/2025/05/header_logo_img_el8d78u88b08fellpmc.png
END:VEVENT
BEGIN:VEVENT
DTSTART;TZID=America/Los_Angeles:20250611T190000
DTEND;TZID=America/Los_Angeles:20250611T210000
DTSTAMP:20260422T233143
CREATED:20250523T170043Z
LAST-MODIFIED:20250523T170043Z
UID:687-1749668400-1749675600@eastmetrocommunitymusic.org
SUMMARY:Concert Band Rehearsal
DESCRIPTION:EMCMA Concert Band Rehearsal at CMS.
URL:https://eastmetrocommunitymusic.org/event/concert-band-rehearsal_6-11-25/
LOCATION:Centennial Middle School band room\, 17650 SE Brooklyn St\, Portland\, OR\, 97236\, United States
CATEGORIES:Concert,Rehearsal
END:VEVENT
BEGIN:VEVENT
DTSTART;TZID=America/Los_Angeles:20250603T190000
DTEND;TZID=America/Los_Angeles:20250603T210000
DTSTAMP:20260422T233143
CREATED:20250412T163744Z
LAST-MODIFIED:20250412T163744Z
UID:647-1748977200-1748984400@eastmetrocommunitymusic.org
SUMMARY:Concert Band Rehearsal
DESCRIPTION:EMCMA Concert Band Rehearsal at CMS.
URL:https://eastmetrocommunitymusic.org/event/concert-band-rehearsal_6-3-25/
LOCATION:Centennial Middle School band room\, 17650 SE Brooklyn St\, Portland\, OR\, 97236\, United States
CATEGORIES:Concert,Rehearsal
END:VEVENT
BEGIN:VEVENT
DTSTART;TZID=America/Los_Angeles:20250531T200000
DTEND;TZID=America/Los_Angeles:20250531T220000
DTSTAMP:20260422T233143
CREATED:20250128T035209Z
LAST-MODIFIED:20250128T035209Z
UID:628-1748721600-1748728800@eastmetrocommunitymusic.org
SUMMARY:CareOregon Starlight Parade
DESCRIPTION:Join us to root on the Centennial High School marching band as they participate in the Rose Festival CareOregon Starlight Parade!
URL:https://eastmetrocommunitymusic.org/event/careoregon-starlight-parade-2025/
LOCATION:Portland\, OR\, Portland\, OR\, 97201\, United States
CATEGORIES:Parade,Performance
ATTACH;FMTTYPE=image/png:https://eastmetrocommunitymusic.org/wp-content/uploads/2025/01/footer-logo.png
ORGANIZER;CN="Portland Rose Festival Foundation":MAILTO:info@rosefestival.org
END:VEVENT
BEGIN:VEVENT
DTSTART;TZID=America/Los_Angeles:20250528T190000
DTEND;TZID=America/Los_Angeles:20250528T210000
DTSTAMP:20260422T233143
CREATED:20250128T034356Z
LAST-MODIFIED:20250128T034356Z
UID:626-1748458800-1748466000@eastmetrocommunitymusic.org
SUMMARY:Concert Band Rehearsal
DESCRIPTION:EMCMA Concert Band Rehearsal at CMS.
URL:https://eastmetrocommunitymusic.org/event/concert-band-rehearsal_5-28-25/
LOCATION:Centennial Middle School band room\, 17650 SE Brooklyn St\, Portland\, OR\, 97236\, United States
CATEGORIES:Concert,Rehearsal
END:VEVENT
BEGIN:VEVENT
DTSTART;TZID=America/Los_Angeles:20250520T190000
DTEND;TZID=America/Los_Angeles:20250520T210000
DTSTAMP:20260422T233143
CREATED:20250128T033734Z
LAST-MODIFIED:20250128T033734Z
UID:624-1747767600-1747774800@eastmetrocommunitymusic.org
SUMMARY:Concert Band Rehearsal
DESCRIPTION:EMCMA Concert Band Rehearsal at CMS.
URL:https://eastmetrocommunitymusic.org/event/concert-band-rehearsal_5-20-25/
LOCATION:Centennial Middle School band room\, 17650 SE Brooklyn St\, Portland\, OR\, 97236\, United States
CATEGORIES:Concert,Rehearsal
END:VEVENT
BEGIN:VEVENT
DTSTART;TZID=America/Los_Angeles:20250517T160000
DTEND;TZID=America/Los_Angeles:20250517T180000
DTSTAMP:20260422T233143
CREATED:20250128T033534Z
LAST-MODIFIED:20250516T044122Z
UID:621-1747497600-1747504800@eastmetrocommunitymusic.org
SUMMARY:Concert: Hope Springs Eternal
DESCRIPTION:Join the EMCMA for our 2025 concert: Hope Springs Eternal. \nThis joint concert will be performed alongside the Oliver Middle School band\, and preceded by a potluck dinner! \nCall time for dress rehearsal is 11:30AM. Concert starts at 4PM!
URL:https://eastmetrocommunitymusic.org/event/concert-hope-springs-eternal/
LOCATION:Oliver Middle School\, 15840 SE Taylor St\, Portland\, OR\, 97233\, United States
CATEGORIES:Concert,Performance
ATTACH;FMTTYPE=image/jpeg:https://eastmetrocommunitymusic.org/wp-content/uploads/2024/09/EMCMA_Logo.jpg
END:VEVENT
BEGIN:VEVENT
DTSTART;TZID=America/Los_Angeles:20250514T190000
DTEND;TZID=America/Los_Angeles:20250514T210000
DTSTAMP:20260422T233143
CREATED:20250128T032839Z
LAST-MODIFIED:20250128T032839Z
UID:619-1747249200-1747256400@eastmetrocommunitymusic.org
SUMMARY:Concert Band Rehearsal
DESCRIPTION:EMCMA Concert Band Rehearsal at CMS.
URL:https://eastmetrocommunitymusic.org/event/concert-band-rehearsal_5-14-25/
LOCATION:Centennial Middle School band room\, 17650 SE Brooklyn St\, Portland\, OR\, 97236\, United States
CATEGORIES:Concert,Rehearsal
END:VEVENT
BEGIN:VEVENT
DTSTART;TZID=America/Los_Angeles:20250506T190000
DTEND;TZID=America/Los_Angeles:20250506T210000
DTSTAMP:20260422T233143
CREATED:20250128T032722Z
LAST-MODIFIED:20250128T032722Z
UID:617-1746558000-1746565200@eastmetrocommunitymusic.org
SUMMARY:Concert Band Rehearsal
DESCRIPTION:EMCMA Concert Band Rehearsal at CMS.
URL:https://eastmetrocommunitymusic.org/event/concert-band-rehearsal_5-6-25/
LOCATION:Centennial Middle School band room\, 17650 SE Brooklyn St\, Portland\, OR\, 97236\, United States
CATEGORIES:Concert,Rehearsal
END:VEVENT
BEGIN:VEVENT
DTSTART;TZID=America/Los_Angeles:20250430T190000
DTEND;TZID=America/Los_Angeles:20250430T210000
DTSTAMP:20260422T233143
CREATED:20241224T170339Z
LAST-MODIFIED:20241224T170339Z
UID:582-1746039600-1746046800@eastmetrocommunitymusic.org
SUMMARY:Concert Band Rehearsal
DESCRIPTION:EMCMA Concert Band Rehearsal at CMS.
URL:https://eastmetrocommunitymusic.org/event/concert-band-rehearsal_4-30-25/
LOCATION:Centennial Middle School band room\, 17650 SE Brooklyn St\, Portland\, OR\, 97236\, United States
CATEGORIES:Concert,Rehearsal
END:VEVENT
BEGIN:VEVENT
DTSTART;TZID=America/Los_Angeles:20250422T190000
DTEND;TZID=America/Los_Angeles:20250422T210000
DTSTAMP:20260422T233143
CREATED:20241224T170108Z
LAST-MODIFIED:20241224T170108Z
UID:580-1745348400-1745355600@eastmetrocommunitymusic.org
SUMMARY:Concert Band Rehearsal
DESCRIPTION:EMCMA Concert Band Rehearsal at CMS.
URL:https://eastmetrocommunitymusic.org/event/concert-band-rehearsal_4-22-25/
LOCATION:Centennial Middle School band room\, 17650 SE Brooklyn St\, Portland\, OR\, 97236\, United States
CATEGORIES:Concert,Rehearsal
END:VEVENT
BEGIN:VEVENT
DTSTART;TZID=America/Los_Angeles:20250416T190000
DTEND;TZID=America/Los_Angeles:20250416T210000
DTSTAMP:20260422T233143
CREATED:20241224T170004Z
LAST-MODIFIED:20241224T170158Z
UID:578-1744830000-1744837200@eastmetrocommunitymusic.org
SUMMARY:Concert Band Rehearsal
DESCRIPTION:EMCMA Concert Band Rehearsal at CMS.
URL:https://eastmetrocommunitymusic.org/event/concert-band-rehearsal_4-16-25/
LOCATION:Centennial Middle School band room\, 17650 SE Brooklyn St\, Portland\, OR\, 97236\, United States
CATEGORIES:Concert,Rehearsal
END:VEVENT
BEGIN:VEVENT
DTSTART;TZID=America/Los_Angeles:20250408T190000
DTEND;TZID=America/Los_Angeles:20250408T210000
DTSTAMP:20260422T233143
CREATED:20241224T165903Z
LAST-MODIFIED:20241224T170235Z
UID:576-1744138800-1744146000@eastmetrocommunitymusic.org
SUMMARY:Concert Band Rehearsal
DESCRIPTION:EMCMA Concert Band Rehearsal at CMS.
URL:https://eastmetrocommunitymusic.org/event/concert-band-rehearsal_4-8-25/
LOCATION:Centennial Middle School band room\, 17650 SE Brooklyn St\, Portland\, OR\, 97236\, United States
CATEGORIES:Concert,Rehearsal
END:VEVENT
BEGIN:VEVENT
DTSTART;TZID=America/Los_Angeles:20250402T190000
DTEND;TZID=America/Los_Angeles:20250402T210000
DTSTAMP:20260422T233143
CREATED:20241224T165801Z
LAST-MODIFIED:20241224T165801Z
UID:574-1743620400-1743627600@eastmetrocommunitymusic.org
SUMMARY:Concert Band Rehearsal
DESCRIPTION:EMCMA Concert Band Rehearsal at CMS.
URL:https://eastmetrocommunitymusic.org/event/concert-band-rehearsal_4-2-25/
LOCATION:Centennial Middle School band room\, 17650 SE Brooklyn St\, Portland\, OR\, 97236\, United States
CATEGORIES:Concert,Rehearsal
END:VEVENT
BEGIN:VEVENT
DTSTART;TZID=America/Los_Angeles:20250318T190000
DTEND;TZID=America/Los_Angeles:20250318T210000
DTSTAMP:20260422T233143
CREATED:20250201T204702Z
LAST-MODIFIED:20250201T205541Z
UID:633-1742324400-1742331600@eastmetrocommunitymusic.org
SUMMARY:Bandapalooza
DESCRIPTION:Enjoy a musical treat as the Centennial High School\, Centennial Middle School\, and Oliver Middle School bands combine to perform a “Bandapalooza” at CHS!
URL:https://eastmetrocommunitymusic.org/event/bandapalooza_2025/
LOCATION:Centennial High School\, 3505 SE 182nd\, Gresham\, OR\, 97030\, United States
CATEGORIES:Community
ATTACH;FMTTYPE=image/png:https://eastmetrocommunitymusic.org/wp-content/uploads/2025/02/Bandapalooza.png
END:VEVENT
BEGIN:VEVENT
DTSTART;TZID=America/Los_Angeles:20250316T150000
DTEND;TZID=America/Los_Angeles:20250316T170000
DTSTAMP:20260422T233143
CREATED:20241224T165628Z
LAST-MODIFIED:20250117T061015Z
UID:572-1742137200-1742144400@eastmetrocommunitymusic.org
SUMMARY:Spring Concert: Hope Springs Eternal
DESCRIPTION:Join us for the EMCMA spring 2025 concert: Hope Springs Eternal! \nConcert details will be forthcoming.
URL:https://eastmetrocommunitymusic.org/event/2025-spring-concert/
LOCATION:OR
CATEGORIES:Concert,Performance
ATTACH;FMTTYPE=image/jpeg:https://eastmetrocommunitymusic.org/wp-content/uploads/2024/09/EMCMA_Logo.jpg
END:VEVENT
BEGIN:VEVENT
DTSTART;TZID=America/Los_Angeles:20250312T190000
DTEND;TZID=America/Los_Angeles:20250312T210000
DTSTAMP:20260422T233143
CREATED:20241224T165344Z
LAST-MODIFIED:20241224T165344Z
UID:570-1741806000-1741813200@eastmetrocommunitymusic.org
SUMMARY:Concert Band Rehearsal
DESCRIPTION:EMCMA Concert Band Rehearsal at CMS.
URL:https://eastmetrocommunitymusic.org/event/concert-band-rehearsal_3-12-25/
LOCATION:Centennial Middle School band room\, 17650 SE Brooklyn St\, Portland\, OR\, 97236\, United States
CATEGORIES:Concert,Rehearsal
END:VEVENT
BEGIN:VEVENT
DTSTART;TZID=America/Los_Angeles:20250304T190000
DTEND;TZID=America/Los_Angeles:20250304T210000
DTSTAMP:20260422T233143
CREATED:20241224T165133Z
LAST-MODIFIED:20241224T165133Z
UID:568-1741114800-1741122000@eastmetrocommunitymusic.org
SUMMARY:Concert Band Rehearsal
DESCRIPTION:EMCMA Concert Band Rehearsal at CMS.
URL:https://eastmetrocommunitymusic.org/event/concert-band-rehearsal_3-4-25/
LOCATION:Centennial Middle School band room\, 17650 SE Brooklyn St\, Portland\, OR\, 97236\, United States
CATEGORIES:Concert,Rehearsal
END:VEVENT
BEGIN:VEVENT
DTSTART;TZID=America/Los_Angeles:20250301T130000
DTEND;TZID=America/Los_Angeles:20250301T140000
DTSTAMP:20260422T233143
CREATED:20250225T235438Z
LAST-MODIFIED:20250225T235438Z
UID:643-1740834000-1740837600@eastmetrocommunitymusic.org
SUMMARY:Music Theory Discussion
DESCRIPTION:Join EMCMA members for a music theory discussion with Zachary!
URL:https://eastmetrocommunitymusic.org/event/music-theory-discussion_3-1-25/
LOCATION:Legacy Coffee\, 112 North Main Avenue\, Gresham\, OR\, 97030\, United States
CATEGORIES:Community
END:VEVENT
END:VCALENDAR