BEGIN:VCALENDAR
VERSION:2.0
PRODID:-//East Metro Community Music Association - ECPv6.15.20//NONSGML v1.0//EN
CALSCALE:GREGORIAN
METHOD:PUBLISH
X-WR-CALNAME:East Metro Community Music Association
X-ORIGINAL-URL:https://eastmetrocommunitymusic.org
X-WR-CALDESC:Events for East Metro Community Music Association
REFRESH-INTERVAL;VALUE=DURATION:PT1H
X-Robots-Tag:noindex
X-PUBLISHED-TTL:PT1H
BEGIN:VTIMEZONE
TZID:America/Los_Angeles
BEGIN:DAYLIGHT
TZOFFSETFROM:-0800
TZOFFSETTO:-0700
TZNAME:PDT
DTSTART:20230312T100000
END:DAYLIGHT
BEGIN:STANDARD
TZOFFSETFROM:-0700
TZOFFSETTO:-0800
TZNAME:PST
DTSTART:20231105T090000
END:STANDARD
BEGIN:DAYLIGHT
TZOFFSETFROM:-0800
TZOFFSETTO:-0700
TZNAME:PDT
DTSTART:20240310T100000
END:DAYLIGHT
BEGIN:STANDARD
TZOFFSETFROM:-0700
TZOFFSETTO:-0800
TZNAME:PST
DTSTART:20241103T090000
END:STANDARD
BEGIN:DAYLIGHT
TZOFFSETFROM:-0800
TZOFFSETTO:-0700
TZNAME:PDT
DTSTART:20250309T100000
END:DAYLIGHT
BEGIN:STANDARD
TZOFFSETFROM:-0700
TZOFFSETTO:-0800
TZNAME:PST
DTSTART:20251102T090000
END:STANDARD
BEGIN:DAYLIGHT
TZOFFSETFROM:-0800
TZOFFSETTO:-0700
TZNAME:PDT
DTSTART:20260308T100000
END:DAYLIGHT
BEGIN:STANDARD
TZOFFSETFROM:-0700
TZOFFSETTO:-0800
TZNAME:PST
DTSTART:20261101T090000
END:STANDARD
END:VTIMEZONE
BEGIN:VEVENT
DTSTART;TZID=America/Los_Angeles:20250316T150000
DTEND;TZID=America/Los_Angeles:20250316T170000
DTSTAMP:20260422T234935
CREATED:20241224T165628Z
LAST-MODIFIED:20250117T061015Z
UID:572-1742137200-1742144400@eastmetrocommunitymusic.org
SUMMARY:Spring Concert: Hope Springs Eternal
DESCRIPTION:Join us for the EMCMA spring 2025 concert: Hope Springs Eternal! \nConcert details will be forthcoming.
URL:https://eastmetrocommunitymusic.org/event/2025-spring-concert/
LOCATION:OR
CATEGORIES:Concert,Performance
ATTACH;FMTTYPE=image/jpeg:https://eastmetrocommunitymusic.org/wp-content/uploads/2024/09/EMCMA_Logo.jpg
END:VEVENT
BEGIN:VEVENT
DTSTART;TZID=America/Los_Angeles:20250312T190000
DTEND;TZID=America/Los_Angeles:20250312T210000
DTSTAMP:20260422T234935
CREATED:20241224T165344Z
LAST-MODIFIED:20241224T165344Z
UID:570-1741806000-1741813200@eastmetrocommunitymusic.org
SUMMARY:Concert Band Rehearsal
DESCRIPTION:EMCMA Concert Band Rehearsal at CMS.
URL:https://eastmetrocommunitymusic.org/event/concert-band-rehearsal_3-12-25/
LOCATION:Centennial Middle School band room\, 17650 SE Brooklyn St\, Portland\, OR\, 97236\, United States
CATEGORIES:Concert,Rehearsal
END:VEVENT
BEGIN:VEVENT
DTSTART;TZID=America/Los_Angeles:20250304T190000
DTEND;TZID=America/Los_Angeles:20250304T210000
DTSTAMP:20260422T234935
CREATED:20241224T165133Z
LAST-MODIFIED:20241224T165133Z
UID:568-1741114800-1741122000@eastmetrocommunitymusic.org
SUMMARY:Concert Band Rehearsal
DESCRIPTION:EMCMA Concert Band Rehearsal at CMS.
URL:https://eastmetrocommunitymusic.org/event/concert-band-rehearsal_3-4-25/
LOCATION:Centennial Middle School band room\, 17650 SE Brooklyn St\, Portland\, OR\, 97236\, United States
CATEGORIES:Concert,Rehearsal
END:VEVENT
BEGIN:VEVENT
DTSTART;TZID=America/Los_Angeles:20250301T130000
DTEND;TZID=America/Los_Angeles:20250301T140000
DTSTAMP:20260422T234935
CREATED:20250225T235438Z
LAST-MODIFIED:20250225T235438Z
UID:643-1740834000-1740837600@eastmetrocommunitymusic.org
SUMMARY:Music Theory Discussion
DESCRIPTION:Join EMCMA members for a music theory discussion with Zachary!
URL:https://eastmetrocommunitymusic.org/event/music-theory-discussion_3-1-25/
LOCATION:Legacy Coffee\, 112 North Main Avenue\, Gresham\, OR\, 97030\, United States
CATEGORIES:Community
END:VEVENT
BEGIN:VEVENT
DTSTART;TZID=America/Los_Angeles:20250225T190000
DTEND;TZID=America/Los_Angeles:20250225T210000
DTSTAMP:20260422T234935
CREATED:20241224T163056Z
LAST-MODIFIED:20250120T235654Z
UID:565-1740510000-1740517200@eastmetrocommunitymusic.org
SUMMARY:Concert Band Rehearsal
DESCRIPTION:EMCMA Concert Band Rehearsal at CMS.
URL:https://eastmetrocommunitymusic.org/event/concert-band-rehearsal_2-25-25/
LOCATION:Centennial Middle School band room\, 17650 SE Brooklyn St\, Portland\, OR\, 97236\, United States
CATEGORIES:Concert,Rehearsal
END:VEVENT
BEGIN:VEVENT
DTSTART;TZID=America/Los_Angeles:20250222T130000
DTEND;TZID=America/Los_Angeles:20250222T140000
DTSTAMP:20260422T234935
CREATED:20250128T032221Z
LAST-MODIFIED:20250128T032307Z
UID:614-1740229200-1740232800@eastmetrocommunitymusic.org
SUMMARY:Music Theory Discussion
DESCRIPTION:Join EMCMA members for a music theory discussion with Michael!
URL:https://eastmetrocommunitymusic.org/event/music-theory-discussion_2-22-25/
LOCATION:Legacy Coffee\, 112 North Main Avenue\, Gresham\, OR\, 97030\, United States
ATTACH;FMTTYPE=image/png:https://eastmetrocommunitymusic.org/wp-content/uploads/2025/01/LEGC-0005-Sign-V2copy.png
END:VEVENT
BEGIN:VEVENT
DTSTART;TZID=America/Los_Angeles:20250218T190000
DTEND;TZID=America/Los_Angeles:20250218T210000
DTSTAMP:20260422T234935
CREATED:20241224T162535Z
LAST-MODIFIED:20241224T162535Z
UID:563-1739905200-1739912400@eastmetrocommunitymusic.org
SUMMARY:Concert Band Rehearsal
DESCRIPTION:EMCMA Concert Band Rehearsal at CMS.
URL:https://eastmetrocommunitymusic.org/event/concert-band-rehearsal_2-18-25/
LOCATION:Centennial Middle School band room\, 17650 SE Brooklyn St\, Portland\, OR\, 97236\, United States
CATEGORIES:Concert,Rehearsal
END:VEVENT
BEGIN:VEVENT
DTSTART;TZID=America/Los_Angeles:20250211T190000
DTEND;TZID=America/Los_Angeles:20250211T210000
DTSTAMP:20260422T234935
CREATED:20241224T162430Z
LAST-MODIFIED:20241224T162430Z
UID:561-1739300400-1739307600@eastmetrocommunitymusic.org
SUMMARY:Concert Band Rehearsal
DESCRIPTION:EMCMA Concert Band Rehearsal at CMS.
URL:https://eastmetrocommunitymusic.org/event/concert-band-rehearsal_2-11-25/
LOCATION:Centennial Middle School band room\, 17650 SE Brooklyn St\, Portland\, OR\, 97236\, United States
CATEGORIES:Concert,Rehearsal
END:VEVENT
BEGIN:VEVENT
DTSTART;TZID=America/Los_Angeles:20250205T190000
DTEND;TZID=America/Los_Angeles:20250205T210000
DTSTAMP:20260422T234935
CREATED:20241224T162251Z
LAST-MODIFIED:20241224T162251Z
UID:559-1738782000-1738789200@eastmetrocommunitymusic.org
SUMMARY:Concert Band Rehearsal
DESCRIPTION:EMCMA Concert Band Rehearsal at CMS.
URL:https://eastmetrocommunitymusic.org/event/concert-band-rehearsal_2-5-25/
LOCATION:Centennial Middle School band room\, 17650 SE Brooklyn St\, Portland\, OR\, 97236\, United States
CATEGORIES:Concert,Rehearsal
END:VEVENT
BEGIN:VEVENT
DTSTART;TZID=America/Los_Angeles:20250201T130000
DTEND;TZID=America/Los_Angeles:20250201T140000
DTSTAMP:20260422T234935
CREATED:20250128T032013Z
LAST-MODIFIED:20250128T032339Z
UID:609-1738414800-1738418400@eastmetrocommunitymusic.org
SUMMARY:Music Theory Discussion
DESCRIPTION:Join EMCMA members for a music theory discussion with Zachary!
URL:https://eastmetrocommunitymusic.org/event/music-theory-discussion_2-1-25/
LOCATION:Legacy Coffee\, 112 North Main Avenue\, Gresham\, OR\, 97030\, United States
ATTACH;FMTTYPE=image/png:https://eastmetrocommunitymusic.org/wp-content/uploads/2025/01/LEGC-0005-Sign-V2copy.png
END:VEVENT
BEGIN:VEVENT
DTSTART;TZID=America/Los_Angeles:20250128T190000
DTEND;TZID=America/Los_Angeles:20250128T210000
DTSTAMP:20260422T234935
CREATED:20241118T162414Z
LAST-MODIFIED:20241118T162414Z
UID:529-1738090800-1738098000@eastmetrocommunitymusic.org
SUMMARY:Concert Band Rehearsal
DESCRIPTION:EMCMA Concert Band Rehearsal at CMS.
URL:https://eastmetrocommunitymusic.org/event/concert-band-rehearsal_1-28-25/
LOCATION:Centennial Middle School band room\, 17650 SE Brooklyn St\, Portland\, OR\, 97236\, United States
CATEGORIES:Concert,Rehearsal
END:VEVENT
BEGIN:VEVENT
DTSTART;TZID=America/Los_Angeles:20250122T190000
DTEND;TZID=America/Los_Angeles:20250122T210000
DTSTAMP:20260422T234935
CREATED:20241118T162256Z
LAST-MODIFIED:20241118T162256Z
UID:527-1737572400-1737579600@eastmetrocommunitymusic.org
SUMMARY:Concert Band Rehearsal
DESCRIPTION:EMCMA Concert Band Rehearsal at CMS.
URL:https://eastmetrocommunitymusic.org/event/concert-band-rehearsal_1-22-25/
LOCATION:Centennial Middle School band room\, 17650 SE Brooklyn St\, Portland\, OR\, 97236\, United States
CATEGORIES:Concert,Rehearsal
END:VEVENT
BEGIN:VEVENT
DTSTART;TZID=America/Los_Angeles:20250114T190000
DTEND;TZID=America/Los_Angeles:20250114T210000
DTSTAMP:20260422T234935
CREATED:20241118T162141Z
LAST-MODIFIED:20241118T162141Z
UID:525-1736881200-1736888400@eastmetrocommunitymusic.org
SUMMARY:Concert Band Rehearsal
DESCRIPTION:EMCMA Concert Band Rehearsal at CMS.
URL:https://eastmetrocommunitymusic.org/event/concert-band-rehearsal_1-14-25/
LOCATION:Centennial Middle School band room\, 17650 SE Brooklyn St\, Portland\, OR\, 97236\, United States
CATEGORIES:Concert,Rehearsal
END:VEVENT
BEGIN:VEVENT
DTSTART;TZID=America/Los_Angeles:20250104T190000
DTEND;TZID=America/Los_Angeles:20250104T210000
DTSTAMP:20260422T234935
CREATED:20241003T235543Z
LAST-MODIFIED:20241129T202333Z
UID:510-1736017200-1736024400@eastmetrocommunitymusic.org
SUMMARY:Twelfth Night Reverie at St. Aidan’s
DESCRIPTION:Twelfth Night Reverie at St. Aidan’s.
URL:https://eastmetrocommunitymusic.org/event/twelfth-night-revelry_2024/
LOCATION:St. Aidan’s Episcopal Church\, 17405 NE Glisan St\, Portland\, OR\, 97230\, United States
CATEGORIES:Concert,Performance
ATTACH;FMTTYPE=image/png:https://eastmetrocommunitymusic.org/wp-content/uploads/2024/10/Unknown.png
END:VEVENT
BEGIN:VEVENT
DTSTART;TZID=America/Los_Angeles:20241218T190000
DTEND;TZID=America/Los_Angeles:20241218T210000
DTSTAMP:20260422T234935
CREATED:20241007T172157Z
LAST-MODIFIED:20241115T061651Z
UID:513-1734548400-1734555600@eastmetrocommunitymusic.org
SUMMARY:Twelfth Night Reverie Dress Rehearsal
DESCRIPTION:Dress Rehearsal for Twelfth Night Reverie at St. Aidan’s
URL:https://eastmetrocommunitymusic.org/event/twelfth-night-reverie-dress-rehearsal-2024/
LOCATION:St. Aidan’s Episcopal Church\, 17405 NE Glisan St\, Portland\, OR\, 97230\, United States
CATEGORIES:Concert,Rehearsal
ATTACH;FMTTYPE=image/png:https://eastmetrocommunitymusic.org/wp-content/uploads/2024/10/Unknown.png
ORGANIZER;CN="St Aidan's Episcopal Church":MAILTO:churchoffice@saint-aidans.org
END:VEVENT
BEGIN:VEVENT
DTSTART;TZID=America/Los_Angeles:20241215T150000
DTEND;TZID=America/Los_Angeles:20241215T170000
DTSTAMP:20260422T234935
CREATED:20241003T235218Z
LAST-MODIFIED:20241214T044035Z
UID:507-1734274800-1734282000@eastmetrocommunitymusic.org
SUMMARY:Joint concert with Portland Metro Concert Band
DESCRIPTION: Joint concert with Portland Metro Concert Band. \nCall time is 1:30PM. Concert begins at 3PM.
URL:https://eastmetrocommunitymusic.org/event/joint-concert-with-portland-metro-concert-band_2024/
LOCATION:Centennial Middle School gymnasium\, 17650 SE Brooklyn St\, OR\, 97236\, United States
CATEGORIES:Concert,Performance
ATTACH;FMTTYPE=image/jpeg:https://eastmetrocommunitymusic.org/wp-content/uploads/2024/10/EMCMAPMCB.jpg
END:VEVENT
BEGIN:VEVENT
DTSTART;TZID=America/Los_Angeles:20241213T190000
DTEND;TZID=America/Los_Angeles:20241213T210000
DTSTAMP:20260422T234935
CREATED:20241003T234954Z
LAST-MODIFIED:20241115T061554Z
UID:505-1734116400-1734123600@eastmetrocommunitymusic.org
SUMMARY:Concert Dress Rehearsal
DESCRIPTION:EMCMA Concert Band Dress Rehearsal at CMS.
URL:https://eastmetrocommunitymusic.org/event/concert-dress-rehearsal_12-13-24/
LOCATION:Centennial Middle School band room\, 17650 SE Brooklyn St\, Portland\, OR\, 97236\, United States
CATEGORIES:Concert,Rehearsal
END:VEVENT
BEGIN:VEVENT
DTSTART;TZID=America/Los_Angeles:20241211T190000
DTEND;TZID=America/Los_Angeles:20241211T210000
DTSTAMP:20260422T234935
CREATED:20241003T234727Z
LAST-MODIFIED:20241208T185019Z
UID:501-1733943600-1733950800@eastmetrocommunitymusic.org
SUMMARY:Concert Band Rehearsal
DESCRIPTION:EMCMA Concert Band Rehearsal at Reynolds Middle School.
URL:https://eastmetrocommunitymusic.org/event/concert-band-rehearsal_12-11-24/
LOCATION:Reynolds Middle School\, 1200 NE 201st Ave\, Fairview\, 97024\, United States
CATEGORIES:Concert,Rehearsal
END:VEVENT
BEGIN:VEVENT
DTSTART;TZID=America/Los_Angeles:20241203T190000
DTEND;TZID=America/Los_Angeles:20241203T210000
DTSTAMP:20260422T234935
CREATED:20241003T234510Z
LAST-MODIFIED:20241021T023513Z
UID:499-1733252400-1733259600@eastmetrocommunitymusic.org
SUMMARY:Concert Band Rehearsal
DESCRIPTION:EMCMA Concert Band Rehearsal at CMS.
URL:https://eastmetrocommunitymusic.org/event/concert-band-rehearsal_12-3-24/
LOCATION:Centennial Middle School band room\, 17650 SE Brooklyn St\, Portland\, OR\, 97236\, United States
CATEGORIES:Concert,Rehearsal
END:VEVENT
BEGIN:VEVENT
DTSTART;TZID=America/Los_Angeles:20241120T190000
DTEND;TZID=America/Los_Angeles:20241120T210000
DTSTAMP:20260422T234935
CREATED:20241115T060102Z
LAST-MODIFIED:20241115T060309Z
UID:521-1732129200-1732136400@eastmetrocommunitymusic.org
SUMMARY:Concert Band Rehearsal
DESCRIPTION:EMCMA Concert Band Rehearsal at CMS.
URL:https://eastmetrocommunitymusic.org/event/concert-band-rehearsal_11-20-24/
LOCATION:Centennial Middle School band room\, 17650 SE Brooklyn St\, Portland\, OR\, 97236\, United States
CATEGORIES:Concert,Rehearsal
END:VEVENT
BEGIN:VEVENT
DTSTART;VALUE=DATE:20241116
DTEND;VALUE=DATE:20241117
DTSTAMP:20260422T234935
CREATED:20240903T182943Z
LAST-MODIFIED:20241003T234243Z
UID:386-1731715200-1731801599@eastmetrocommunitymusic.org
SUMMARY:Fall Concert:  Frost and Cold\, Fire and Heat
DESCRIPTION:EMCMA Fall Concert:  Frost and Cold\, Fire and Heat
URL:https://eastmetrocommunitymusic.org/event/2024-fall-concert/
LOCATION:OR
ATTACH;FMTTYPE=image/jpeg:https://eastmetrocommunitymusic.org/wp-content/uploads/2024/09/EMCMA_Logo.jpg
END:VEVENT
BEGIN:VEVENT
DTSTART;TZID=America/Los_Angeles:20241115T190000
DTEND;TZID=America/Los_Angeles:20241115T210000
DTSTAMP:20260422T234935
CREATED:20240903T182744Z
LAST-MODIFIED:20241003T234311Z
UID:384-1731697200-1731704400@eastmetrocommunitymusic.org
SUMMARY:Fall Concert Dress Rehearsal
DESCRIPTION:EMCMA Concert Band Rehearsal at CMS.
URL:https://eastmetrocommunitymusic.org/event/2024-fall-concert-dress-rehearsal/
LOCATION:Centennial Middle School band room\, 17650 SE Brooklyn St\, Portland\, OR\, 97236\, United States
CATEGORIES:Concert,Rehearsal
END:VEVENT
BEGIN:VEVENT
DTSTART;TZID=America/Los_Angeles:20241113T190000
DTEND;TZID=America/Los_Angeles:20241113T210000
DTSTAMP:20260422T234935
CREATED:20240903T182625Z
LAST-MODIFIED:20240903T182625Z
UID:382-1731524400-1731531600@eastmetrocommunitymusic.org
SUMMARY:Concert Band Rehearsal
DESCRIPTION:EMCMA Concert Band Rehearsal at CMS.
URL:https://eastmetrocommunitymusic.org/event/concert-band-rehearsal_11-13-24/
LOCATION:Centennial Middle School band room\, 17650 SE Brooklyn St\, Portland\, OR\, 97236\, United States
CATEGORIES:Concert,Rehearsal
END:VEVENT
BEGIN:VEVENT
DTSTART;TZID=America/Los_Angeles:20241105T190000
DTEND;TZID=America/Los_Angeles:20241105T210000
DTSTAMP:20260422T234935
CREATED:20240903T182513Z
LAST-MODIFIED:20240903T182513Z
UID:380-1730833200-1730840400@eastmetrocommunitymusic.org
SUMMARY:Concert Band Rehearsal
DESCRIPTION:EMCMA Concert Band Rehearsal at CMS.
URL:https://eastmetrocommunitymusic.org/event/concert-band-rehearsal_11-5-24/
LOCATION:Centennial Middle School band room\, 17650 SE Brooklyn St\, Portland\, OR\, 97236\, United States
CATEGORIES:Concert,Rehearsal
END:VEVENT
BEGIN:VEVENT
DTSTART;TZID=America/Los_Angeles:20241030T190000
DTEND;TZID=America/Los_Angeles:20241030T210000
DTSTAMP:20260422T234935
CREATED:20240903T182113Z
LAST-MODIFIED:20240903T182113Z
UID:378-1730314800-1730322000@eastmetrocommunitymusic.org
SUMMARY:Concert Band Rehearsal
DESCRIPTION:EMCMA Concert Band Rehearsal at CMS.
URL:https://eastmetrocommunitymusic.org/event/concert-band-rehearsal_10-30-24/
LOCATION:Centennial Middle School band room\, 17650 SE Brooklyn St\, Portland\, OR\, 97236\, United States
CATEGORIES:Concert,Rehearsal
END:VEVENT
BEGIN:VEVENT
DTSTART;TZID=America/Los_Angeles:20241022T190000
DTEND;TZID=America/Los_Angeles:20241022T210000
DTSTAMP:20260422T234935
CREATED:20240903T181730Z
LAST-MODIFIED:20241021T023137Z
UID:376-1729623600-1729630800@eastmetrocommunitymusic.org
SUMMARY:Concert Band Rehearsal
DESCRIPTION:EMCMA Concert Band Rehearsal at CMS.
URL:https://eastmetrocommunitymusic.org/event/concert-band-rehearsal_10-22-24/
LOCATION:Centennial Middle School band room\, 17650 SE Brooklyn St\, Portland\, OR\, 97236\, United States
CATEGORIES:Concert,Rehearsal
END:VEVENT
BEGIN:VEVENT
DTSTART;TZID=America/Los_Angeles:20241016T190000
DTEND;TZID=America/Los_Angeles:20241016T210000
DTSTAMP:20260422T234935
CREATED:20240903T181549Z
LAST-MODIFIED:20240903T181549Z
UID:374-1729105200-1729112400@eastmetrocommunitymusic.org
SUMMARY:Concert Band Rehearsal
DESCRIPTION:EMCMA Concert Band Rehearsal at CMS.
URL:https://eastmetrocommunitymusic.org/event/concert-band-rehearsal_10-16-24/
LOCATION:Centennial Middle School band room\, 17650 SE Brooklyn St\, Portland\, OR\, 97236\, United States
CATEGORIES:Concert,Rehearsal
END:VEVENT
BEGIN:VEVENT
DTSTART;TZID=America/Los_Angeles:20241008T190000
DTEND;TZID=America/Los_Angeles:20241008T210000
DTSTAMP:20260422T234935
CREATED:20240903T181441Z
LAST-MODIFIED:20241003T234143Z
UID:371-1728414000-1728421200@eastmetrocommunitymusic.org
SUMMARY:Concert Band Rehearsal
DESCRIPTION:EMCMA Concert Band Rehearsal at CMS.
URL:https://eastmetrocommunitymusic.org/event/concert-band-rehersal_10-8-24/
LOCATION:Centennial Middle School band room\, 17650 SE Brooklyn St\, Portland\, OR\, 97236\, United States
CATEGORIES:Concert,Rehearsal
END:VEVENT
BEGIN:VEVENT
DTSTART;TZID=America/Los_Angeles:20241004T170000
DTEND;TZID=America/Los_Angeles:20241004T220000
DTSTAMP:20260422T234935
CREATED:20240827T171416Z
LAST-MODIFIED:20240827T203453Z
UID:333-1728061200-1728079200@eastmetrocommunitymusic.org
SUMMARY:Centennial Homecoming Parade 2024
DESCRIPTION:The EMCMA will be participating in the 2024 Centennial Homecoming parade on Friday October 4th.
URL:https://eastmetrocommunitymusic.org/event/centennial-homecoming-parade-2024/
LOCATION:Centennial High School\, 3505 SE 182nd\, Gresham\, OR\, 97030\, United States
CATEGORIES:Parade,Performance
ATTACH;FMTTYPE=image/jpeg:https://eastmetrocommunitymusic.org/wp-content/uploads/2024/08/283466291_5549118618477604_3668745862018529805_n.jpg
END:VEVENT
BEGIN:VEVENT
DTSTART;TZID=America/Los_Angeles:20241002T183000
DTEND;TZID=America/Los_Angeles:20241002T210000
DTSTAMP:20260422T234935
CREATED:20240831T234602Z
LAST-MODIFIED:20241002T041105Z
UID:368-1727893800-1727902800@eastmetrocommunitymusic.org
SUMMARY:Marching Band Practice
DESCRIPTION:EMCMA Marching Band Practice with CHS\, CMS\, and OMS Bands
URL:https://eastmetrocommunitymusic.org/event/marching-band-practice_10-2-24/
LOCATION:Centennial Middle School band room\, 17650 SE Brooklyn St\, Portland\, OR\, 97236\, United States
CATEGORIES:Marching,Rehearsal
END:VEVENT
END:VCALENDAR